BEGIN:VCALENDAR
VERSION:2.0
PRODID:icalendar-ruby
CALSCALE:GREGORIAN
METHOD:PUBLISH
BEGIN:VEVENT
DTSTAMP:20260426T031432Z
UID:11-1136669@coobychurch.com.au
DTSTART:20260924T233000Z
DTEND:20260925T003000Z
CLASS:PUBLIC
CREATED:20260426T084236
DESCRIPTION:All are welcome to join us as we bless and pray for individual\
 , church and community needs. 
LAST-MODIFIED:20260426T084236
LOCATION:Coolbellup Community Church\, 68 Waverley Rd\, Coolbellup
SUMMARY:Friday Prayer
URL;VALUE=URI:https://www.coobychurch.com.au/events/friday-prayer--11/2026-
 09-25
END:VEVENT
END:VCALENDAR
