BEGIN:VCALENDAR
VERSION:2.0
PRODID:icalendar-ruby
CALSCALE:GREGORIAN
METHOD:PUBLISH
BEGIN:VEVENT
DTSTAMP:20260426T030214Z
UID:34-1136866@coobychurch.com.au
DTSTART:20260923T090000Z
DTEND:20260923T100000Z
CLASS:PUBLIC
CREATED:20260426T084236
DESCRIPTION:All are welcome to join us as we bless and pray for individual\
 , church and community needs. 
LAST-MODIFIED:20260426T084236
LOCATION:Coolbellup Community Church
SUMMARY:Wednesday Prayer
URL;VALUE=URI:https://www.coobychurch.com.au/events/wednesday-prayer/2026-0
 9-23
END:VEVENT
END:VCALENDAR
